BEGIN:VCALENDAR
VERSION:2.0
PRODID:-//eventon.com NONSGML v1.0//EN
CALSCALE:GREGORIAN
METHOD:PUBLISH
BEGIN:VEVENT
UID:69e6010217020
DTSTAMP:20260420T033338
DTSTART:20241124T000000Z
DTEND:20241124T020000Z
TZID:America/Los_Angeles
LOCATION:Vinocruz 4901 Soquel Dr
SUMMARY:JADe Acoustic Duo
DESCRIPTION: Judy Appleby and Deenie Rose have been singing together since 2008. As the duo “JADe&#8221;\,  they perform in the Bay Area for private parties\,  events\,  wineries and restaurants. Their song list includes beautiful ballads\,  easy listening music\,  country and rock tunes that are performed in their own unique acoustic style.\nhttps://vinocruz.com/events/jade-acoustic-duo/
URL:https://vinocruz.com/events/jade-acoustic-duo/
END:VEVENT
END:VCALENDAR