BEGIN:VCALENDAR
VERSION:2.0
PRODID:-//eventon.com NONSGML v1.0//EN
CALSCALE:GREGORIAN
METHOD:PUBLISH
BEGIN:VEVENT
UID:69e8a0d68b98f
DTSTAMP:20260422T032006
DTSTART:20220324T003000Z
DTEND:20220324T023000Z
TZID:America/Los_Angeles
LOCATION:Vinocruz 4901 Soquel Dr
SUMMARY:Live Flamenco Music
DESCRIPTION: Join Bobby &#8220;El Poni de Jerez&#8221; for some fun flamenco music. Wine\,  Tapas\,  Flamenco! ¡Olé!\nhttps://vinocruz.com/events/live-flamenco-music/
URL:https://vinocruz.com/events/live-flamenco-music/
END:VEVENT
END:VCALENDAR