BEGIN:VCALENDAR
VERSION:2.0
PRODID:-//eventon.com NONSGML v1.0//EN
CALSCALE:GREGORIAN
METHOD:PUBLISH
BEGIN:VEVENT
UID:69e5fe39bfb3d
DTSTAMP:20260420T032145
DTSTART:20241115T020000Z
DTEND:20241115T040000Z
TZID:America/Los_Angeles
LOCATION:
SUMMARY:Ryan Price
DESCRIPTION: Mixed genres of music heard through the sounds of percussive and melodic string work. Amazing artist\,  come down and join us!\nhttps://vinocruz.com/events/ryan-price/
URL:https://vinocruz.com/events/ryan-price/
END:VEVENT
END:VCALENDAR