BEGIN:VCALENDAR
VERSION:2.0
PRODID:-//eventon.com NONSGML v1.0//EN
CALSCALE:GREGORIAN
METHOD:PUBLISH
BEGIN:VEVENT
UID:69e743abbfd96
DTSTAMP:20260421T023019
DTSTART:20221118T000000Z
DTEND:20221118T040000Z
TZID:America/Los_Angeles
LOCATION:
SUMMARY:Sip & See
DESCRIPTION: Art &amp; Wine is always a good time. We will be hosting artist Kimberly Hoffert this Thursday 11/17 starting at 4pm to showcase some of her art pieces while she does some painting! So come down and connect with a local artist\,  enjoy some fine food and wine and stimulate[..]\nhttps://vinocruz.com/events/sip-see/
URL:https://vinocruz.com/events/sip-see/
END:VEVENT
END:VCALENDAR