BEGIN:VCALENDAR
VERSION:2.0
PRODID:-//eventon.com NONSGML v1.0//EN
CALSCALE:GREGORIAN
METHOD:PUBLISH
BEGIN:VEVENT
UID:69e6035b44ae4
DTSTAMP:20260420T034339
DTSTART:20231231T200000Z
DTEND:20240101T060000Z
TZID:America/Los_Angeles
LOCATION:
SUMMARY:New Year's Eve Special!
DESCRIPTION: If you are looking for a fantastic place to celebrate New Years Eve (and count down the East Coast time ball drop)\,  or want a great pre-game location\,  Vinocruz is the spot! We will have Live Music\,  Sensational Sparkles\,  Fantastic Food &amp; Divine Desserts. While we won’t be open until[..]\nhttps://vinocruz.com/events/new-years-eve-special/
URL:https://vinocruz.com/events/new-years-eve-special/
END:VEVENT
END:VCALENDAR